BEGIN:VCALENDAR
VERSION:2.0
PRODID:-//85.13.152.160//NONSGML kigkonsult.se iCalcreator 2.26.9//
CALSCALE:GREGORIAN
METHOD:PUBLISH
X-FROM-URL:http://mv-kemeten.at
X-WR-TIMEZONE:Europe/Vienna
BEGIN:VTIMEZONE
TZID:Europe/Vienna
X-LIC-LOCATION:Europe/Vienna
BEGIN:STANDARD
DTSTART:20251026T030000
TZOFFSETFROM:+0200
TZOFFSETTO:+0100
RDATE:20261025T030000
TZNAME:CET
END:STANDARD
BEGIN:DAYLIGHT
DTSTART:20260329T020000
TZOFFSETFROM:+0100
TZOFFSETTO:+0200
RDATE:20270328T020000
TZNAME:CEST
END:DAYLIGHT
END:VTIMEZONE
BEGIN:VEVENT
UID:ai1ec-3438@mv-kemeten.at
DTSTAMP:20260420T102006Z
CATEGORIES:
CONTACT:
DESCRIPTION:
DTSTART;TZID=Europe/Vienna:20260509T190000
DTEND;TZID=Europe/Vienna:20260509T220000
LOCATION:Gemeindesaal @ Am Dorfbrunnen 3\, 7531 Kemeten
SEQUENCE:0
SUMMARY:9. Mai 2026 Frühlingskonzert
URL:http://mv-kemeten.at/Veranstaltung/9-mai-2026-fruehlingskonzert/
X-COST-TYPE:free
END:VEVENT
BEGIN:VEVENT
UID:ai1ec-3439@mv-kemeten.at
DTSTAMP:20260420T102006Z
CATEGORIES:
CONTACT:
DESCRIPTION:
DTSTART;TZID=Europe/Vienna:20260604T100000
DTEND;TZID=Europe/Vienna:20260604T110000
SEQUENCE:0
SUMMARY:4. Juni 2026 Fronleichnam
URL:http://mv-kemeten.at/Veranstaltung/4-juni-2026-fronleichnam/
X-COST-TYPE:free
END:VEVENT
BEGIN:VEVENT
UID:ai1ec-3445@mv-kemeten.at
DTSTAMP:20260420T102006Z
CATEGORIES:
CONTACT:
DESCRIPTION:
DTSTART;TZID=Europe/Vienna:20260607T110000
DTEND;TZID=Europe/Vienna:20260607T140000
SEQUENCE:0
SUMMARY:7. Juni 2026 Frühschoppen Sportverein
URL:http://mv-kemeten.at/Veranstaltung/7-juni-2026-fruehschoppen-sportverei
 n/
X-COST-TYPE:free
END:VEVENT
BEGIN:VEVENT
UID:ai1ec-3440@mv-kemeten.at
DTSTAMP:20260420T102006Z
CATEGORIES:
CONTACT:
DESCRIPTION:
DTSTART;TZID=Europe/Vienna:20260705T110000
DTEND;TZID=Europe/Vienna:20260705T140000
SEQUENCE:0
SUMMARY:5. Juli 2026 Frühschoppen Evangelisches Pfarrfest
URL:http://mv-kemeten.at/Veranstaltung/5-juli-2026-fruehschoppen-evangelisc
 hes-pfarrfest/
X-COST-TYPE:free
END:VEVENT
BEGIN:VEVENT
UID:ai1ec-3441@mv-kemeten.at
DTSTAMP:20260420T102006Z
CATEGORIES:
CONTACT:
DESCRIPTION:
DTSTART;TZID=Europe/Vienna:20260816T110000
DTEND;TZID=Europe/Vienna:20260816T140000
SEQUENCE:0
SUMMARY:16. August 2026 Frühschoppen Feuerwehrfest
URL:http://mv-kemeten.at/Veranstaltung/16-august-2026-fruehschoppen-feuerwe
 hrfest/
X-COST-TYPE:free
END:VEVENT
BEGIN:VEVENT
UID:ai1ec-3442@mv-kemeten.at
DTSTAMP:20260420T102006Z
CATEGORIES:
CONTACT:
DESCRIPTION:
DTSTART;TZID=Europe/Vienna:20260830T110000
DTEND;TZID=Europe/Vienna:20260830T140000
SEQUENCE:0
SUMMARY:30. August 2026 Frühschoppen Katholisches Pfarrfest
URL:http://mv-kemeten.at/Veranstaltung/30-august-2026-fruehschoppen-katholi
 sches-pfarrfest/
X-COST-TYPE:free
END:VEVENT
BEGIN:VEVENT
UID:ai1ec-3443@mv-kemeten.at
DTSTAMP:20260420T102006Z
CATEGORIES:
CONTACT:
DESCRIPTION:
DTSTART;TZID=Europe/Vienna:20261017T190000
DTEND;TZID=Europe/Vienna:20261017T234500
LOCATION:Gemeindesaal @ Am Dorfbrunnen 3\, 7531 Kemeten
SEQUENCE:0
SUMMARY:17. Oktober 2026 Oktoberfest
URL:http://mv-kemeten.at/Veranstaltung/17-oktober-oktoberfest/
X-COST-TYPE:free
END:VEVENT
BEGIN:VEVENT
UID:ai1ec-3444@mv-kemeten.at
DTSTAMP:20260420T102006Z
CATEGORIES:
CONTACT:
DESCRIPTION:
DTSTART;TZID=Europe/Vienna:20261101T100000
DTEND;TZID=Europe/Vienna:20261101T110000
SEQUENCE:0
SUMMARY:1. November 2026 Allerheiligen
URL:http://mv-kemeten.at/Veranstaltung/1-november-2026-allerheiligen/
X-COST-TYPE:free
END:VEVENT
BEGIN:VEVENT
UID:ai1ec-3446@mv-kemeten.at
DTSTAMP:20260420T102006Z
CATEGORIES:
CONTACT:
DESCRIPTION:
DTSTART;TZID=Europe/Vienna:20261204T160000
DTEND;TZID=Europe/Vienna:20261204T170000
SEQUENCE:0
SUMMARY:4. Dezember 2026 Nikolausfeier
URL:http://mv-kemeten.at/Veranstaltung/4-dezember-2026-nikolausfeier/
X-COST-TYPE:free
END:VEVENT
BEGIN:VEVENT
UID:ai1ec-3447@mv-kemeten.at
DTSTAMP:20260420T102006Z
CATEGORIES:
CONTACT:
DESCRIPTION:
DTSTART;TZID=Europe/Vienna:20261228T080000
DTEND;TZID=Europe/Vienna:20261228T160000
SEQUENCE:0
SUMMARY:28. Dezember 2026 Neujahrspielen Tag 1
URL:http://mv-kemeten.at/Veranstaltung/28-dezember-2026-neujahrspielen-tag-
 1/
X-COST-TYPE:free
END:VEVENT
BEGIN:VEVENT
UID:ai1ec-3448@mv-kemeten.at
DTSTAMP:20260420T102006Z
CATEGORIES:
CONTACT:
DESCRIPTION:
DTSTART;TZID=Europe/Vienna:20261229T080000
DTEND;TZID=Europe/Vienna:20261229T160000
SEQUENCE:0
SUMMARY:29. Dezember 2026 Neujahrspielen Tag 2
URL:http://mv-kemeten.at/Veranstaltung/29-dezember-2026-neujahrspielen-tag-
 2/
X-COST-TYPE:free
END:VEVENT
END:VCALENDAR
